BEGIN:VCALENDAR
VERSION:2.0
PRODID:-//Historic Indian Village Website - ECPv6.15.20//NONSGML v1.0//EN
CALSCALE:GREGORIAN
METHOD:PUBLISH
X-WR-CALNAME:Historic Indian Village Website
X-ORIGINAL-URL:https://historicindianvillage.org
X-WR-CALDESC:Events for Historic Indian Village Website
REFRESH-INTERVAL;VALUE=DURATION:PT1H
X-Robots-Tag:noindex
X-PUBLISHED-TTL:PT1H
BEGIN:VTIMEZONE
TZID:UTC
BEGIN:STANDARD
TZOFFSETFROM:+0000
TZOFFSETTO:+0000
TZNAME:UTC
DTSTART:20240101T000000
END:STANDARD
END:VTIMEZONE
BEGIN:VEVENT
DTSTART;TZID=UTC:20250503T160000
DTEND;TZID=UTC:20250503T200000
DTSTAMP:20260423T171524
CREATED:20250319T015001Z
LAST-MODIFIED:20250319T015320Z
UID:8781-1746288000-1746302400@historicindianvillage.org
SUMMARY:Bourbon & Blossoms: A Historic Indian Village Experience\, Kentucky Derby Garden Affair
DESCRIPTION:
URL:https://historicindianvillage.org/event/bourbon-blossoms-a-historic-indian-village-experience-kentucky-derby-garden-affair/
CATEGORIES:hivaevents,WGC
END:VEVENT
BEGIN:VEVENT
DTSTART;TZID=UTC:20250319T190000
DTEND;TZID=UTC:20250319T210000
DTSTAMP:20260423T171524
CREATED:20250319T020006Z
LAST-MODIFIED:20250319T020006Z
UID:8786-1742410800-1742418000@historicindianvillage.org
SUMMARY:Indian Village Men's Garden Club Meeting
DESCRIPTION:
URL:https://historicindianvillage.org/event/indian-village-mens-garden-club-meeting-2/
CATEGORIES:hivaevents,MGC
END:VEVENT
END:VCALENDAR